BEGIN:VCALENDAR
VERSION:2.0
CALSCALE:GREGORIAN
METHOD:PUBLISH
BEGIN:VEVENT
UID:45vw17eh82kr
DTSTART:20260505T200000
DTEND:20260505T210000
SUMMARY:Практические советы по прохождению рецензирования
TZNAME:Europe/Moscow
PUBLIC:TRUE
STATUS:CONFIRMED
TRANSP:OPAQUE
KK:S0.C2085C2084C2083C2082C2081C1983C1881C1882C1883C1884C1854C1851C1742C1813C1688
ACTION:DISPLAY
LOCATION:https://register.gotowebinar.com/register/7216685703993682013
DESCRIPTION:Организатор: Springer Nature\n\nХотите узнать, что на самом деле думают рецензенты, читая вашу статью? Тогда присоединяйтесь к практическому вебинару, на котором главный редактор Springer Nature Геррит-Джон Шустер расскажет вам о процессе рецензирования изнутри.\nРедактор обсудит основные аспекты, на которые обращают внимание рецензенты — оригинальность, ясность изложения, достоверность данных и соблюдение этических норм в научных исследованиях. Помимо этого, в рамках вебинара вы сможете принять участие в увлекательном интерактивном упражнении, которое позволит вам попробовать себя в роли рецензента.\nВ заключение вы сможете задать интересующие вас вопросы и получить рекомендации, которые помогут вам привести статью в идеальный вид перед подачей.\nЯзык мероприятия: английский\n\nКлючевые слова: Springer, вебинар, наука, карьера, публикация, рецензирование\n\nhttps://register.gotowebinar.com/register/7216685703993682013
END:VEVENT
END:VCALENDAR
