BEGIN:VCALENDAR
VERSION:2.0
CALSCALE:GREGORIAN
METHOD:PUBLISH
BEGIN:VEVENT
UID:48yf86tu30uo
DTSTART:20260506T180000
DTEND:20260506T190000
SUMMARY:Как сохранять баланс между академической работой и личной жизнью 
TZNAME:Europe/Moscow
PUBLIC:TRUE
STATUS:CONFIRMED
TRANSP:OPAQUE
KK:S0.C2074
ACTION:DISPLAY
LOCATION:https://sagepub.zoom.us/webinar/register/7817613337434/WN_8USzl_glSzyme9mzSGXaDQ#/registration
DESCRIPTION:Организатор: SAGE\n\nSage приглашает на вебинар, направленный на повышение осведомленности о проблемах психического здоровья.\nНа вебинаре будет рассмотрен вопрос прямого влияния психического благополучия на весь процесс академической публикации: от подготовки рукописи до прохождения рецензирования. Участники узнают, как интегрировать практики самопомощи на каждом из этих этапов.\nВ ходе сессии будут предложены стратегии для снижения стресса и тревожности, постановки реалистичных целей и поддержания эмоциональной устойчивости, что позволит сохранить продуктивность и творческий потенциал без ущерба для здоровья.\nНезависимо от того, составляете ли вы свою первую статью или дорабатываете ее для повторной подачи, практические советы экспертов помогут вам начать интегрировать заботу о себе в повседневную жизнь и создать баланс между своими потребностями и обязанностями.\nЯзык мероприятия: английский\n\nКлючевые слова: Sage, вебинар, наука, карьера\n\nhttps://sagepub.zoom.us/webinar/register/7817613337434/WN_8USzl_glSzyme9mzSGXaDQ#/registration
END:VEVENT
END:VCALENDAR
