BEGIN:VCALENDAR
VERSION:2.0
CALSCALE:GREGORIAN
METHOD:PUBLISH
BEGIN:VEVENT
UID:66sv35vr14bo
DTSTART:20260225T120000
DTEND:20260225T130000
SUMMARY:От теории к практике: как ИИ-инструменты Синтелли повышают эффективность учебного процесса в химии.
TZNAME:Europe/Moscow
PUBLIC:TRUE
STATUS:CONFIRMED
TRANSP:OPAQUE
KK:S0.C2108
ACTION:DISPLAY
LOCATION:https://pruffme.com/landing/syntelly/tmp1769707745
DESCRIPTION:Организатор: Синтелли\n\nВебинар посвящён практическому применению платформы Синтелли в обучении.
Покажем, какие задачи Синтелли помогает решать преподавателям и студентам, разберём реальные учебные кейсы и лабораторные работы, включая сценарии для проведения литературного обзора и анализа химических данных.\n\nКлючевые слова: Синтелли, органическая химия, цифровые инструменты химика, инструменты хемоинформатики, цифровая химия обучение, Синтелли в образовании\n\nhttps://pruffme.com/landing/syntelly/tmp1769707745
END:VEVENT
END:VCALENDAR
