BEGIN:VCALENDAR
VERSION:2.0
CALSCALE:GREGORIAN
METHOD:PUBLISH
BEGIN:VEVENT
UID:67ca53mv91de
DTSTART:20260528T140000
DTEND:20260528T150000
SUMMARY:Кокрейновские систематические обзоры - золотой стандарт в доказательной медицине
TZNAME:Europe/Moscow
PUBLIC:TRUE
STATUS:CONFIRMED
TRANSP:OPAQUE
KK:S0.C2061
ACTION:DISPLAY
LOCATION:https://register.gotowebinar.com/register/6044539240097056087
DESCRIPTION:Организатор: Wiley\n\nПриглашаем врачей и исследователей в области медицины на вебинар, посвященный базе данных Cochrane Library.\nНа вебинаре выступит Директор Кокрейн Россия, д.м.н., профессор, ведущий координатор Центра трансляции доказательных медицинских знаний института методологии профессионального развития РМАНПО, профессор РУДН им. Патриса Лумумбы и Казанского ГМУ, Лилия Евгеньевна Зиганшина с рассказом о деятельности этой международной организации и о том, и почему именно Кокрейновские систематические обзоры по праву считаются золотым стандартом в доказательной медицине, необходимом исследователям и практикам здравоохранения.\nО чем пойдет речь:\n- Влияние обзоров Кокрейн на принятие решений в современной медицинской науке и здравоохранении;\n- В чём уникальность Кокрейновских обзоров, почему они всемирно признанный стандарт качества;\n- Российское подразделение Кокрейн. Как стать участником и вносить вклад.\n\nКлючевые слова: Кокрейн, наука, здравоохранение, доказательная медицина, систематические обзоры\n\nhttps://register.gotowebinar.com/register/6044539240097056087
END:VEVENT
END:VCALENDAR
