BEGIN:VCALENDAR
VERSION:2.0
CALSCALE:GREGORIAN
METHOD:PUBLISH
BEGIN:VEVENT
UID:82tn61lm73cd
DTSTART:20260225T220000
DTEND:20260225T224500
SUMMARY:Новые возможности SciFinder для химических исследований
TZNAME:Europe/Moscow
PUBLIC:TRUE
STATUS:CONFIRMED
TRANSP:OPAQUE
KK:S0.C2057C2056C2107
ACTION:DISPLAY
LOCATION:https://www.cas.org/resources/webinar/whats-new-in-cas-scifinder-2-et
DESCRIPTION:Организатор: CAS\n\nCAS приглашает на вебинар, посвящённый новым возможностям онлайн-сервиса SciFinder, предназначенного для поиска и анализа информации в области химии и смежных дисциплин.\nВ ходе вебинара вы познакомитесь с обновленным функционалом SciFinder и узнаете, как он улучшает процесс поиска химических соединений и реакций, интегрирует интеллектуальную собственность в рабочий процесс исследований и открывает новые возможности для планирования синтеза. Ведущие также наглядно покажут, как обновления оптимизируют научную работу исследователей.\nЯзык вебинара: английский.\n\nКлючевые слова: CAS, SciFinder, карьера, наука, химия\n\nhttps://www.cas.org/resources/webinar/whats-new-in-cas-scifinder-2-et
END:VEVENT
END:VCALENDAR
